Package: BioNERO Version: 1.14.0 Command: /Library/Frameworks/R.framework/Resources/bin/R CMD check --install=check:BioNERO.install-out.txt --library=/Library/Frameworks/R.framework/Resources/library --no-vignettes --timings BioNERO_1.14.0.tar.gz StartedAt: 2025-03-31 23:59:34 -0400 (Mon, 31 Mar 2025) EndedAt: 2025-04-01 00:12:53 -0400 (Tue, 01 Apr 2025) EllapsedTime: 799.5 seconds RetCode: 0 Status: OK CheckDir: BioNERO.Rcheck Warnings: 0