Package: BioNERO Version: 1.14.0 Command: /Library/Frameworks/R.framework/Resources/bin/R CMD build --keep-empty-dirs --no-resave-data BioNERO StartedAt: 2025-03-31 19:35:40 -0400 (Mon, 31 Mar 2025) EndedAt: 2025-03-31 19:42:16 -0400 (Mon, 31 Mar 2025) EllapsedTime: 395.9 seconds RetCode: 0 Status: OK PackageFile: BioNERO_1.14.0.tar.gz PackageFileSize: 4.916 MiB