Package: BioNAR Version: 1.8.1 Command: /Library/Frameworks/R.framework/Resources/bin/R CMD INSTALL BioNAR StartedAt: 2025-03-31 17:08:53 -0400 (Mon, 31 Mar 2025) EndedAt: 2025-03-31 17:09:22 -0400 (Mon, 31 Mar 2025) EllapsedTime: 28.5 seconds RetCode: 0 Status: OK