Package: BioNAR Version: 1.8.1 Command: /Library/Frameworks/R.framework/Resources/bin/R CMD build --keep-empty-dirs --no-resave-data BioNAR StartedAt: 2025-03-31 19:35:09 -0400 (Mon, 31 Mar 2025) EndedAt: 2025-03-31 19:38:03 -0400 (Mon, 31 Mar 2025) EllapsedTime: 174.1 seconds RetCode: 0 Status: OK PackageFile: BioNAR_1.8.1.tar.gz PackageFileSize: 3.589 MiB