Package: BioMVCClass Version: 1.74.0 Command: chmod a+r BioMVCClass -R && F:\biocbuild\bbs-3.20-bioc\R\bin\R.exe CMD build --keep-empty-dirs --no-resave-data BioMVCClass StartedAt: 2025-03-31 17:39:13 -0400 (Mon, 31 Mar 2025) EndedAt: 2025-03-31 17:39:36 -0400 (Mon, 31 Mar 2025) EllapsedTime: 23.0 seconds RetCode: 0 Status: OK PackageFile: BioMVCClass_1.74.0.tar.gz PackageFileSize: 132.1 KiB