Package: BioGA Version: 1.0.0 Command: F:\biocbuild\bbs-3.20-bioc\R\bin\R.exe CMD INSTALL BioGA StartedAt: 2025-03-31 15:54:04 -0400 (Mon, 31 Mar 2025) EndedAt: 2025-03-31 15:54:58 -0400 (Mon, 31 Mar 2025) EllapsedTime: 54.5 seconds RetCode: 0 Status: OK