Package: BioGA Version: 1.0.0 Command: /home/biocbuild/bbs-3.20-bioc/R/bin/R CMD build --keep-empty-dirs --no-resave-data --md5 BioGA StartedAt: 2025-03-31 16:24:54 -0400 (Mon, 31 Mar 2025) EndedAt: 2025-03-31 16:25:45 -0400 (Mon, 31 Mar 2025) EllapsedTime: 51.0 seconds RetCode: 0 Status: OK PackageFile: BioGA_1.0.0.tar.gz PackageFileSize: 331.6 KiB