Package: BioGA Version: 1.0.0 Command: /Library/Frameworks/R.framework/Resources/bin/R CMD check --install=check:BioGA.install-out.txt --library=/Library/Frameworks/R.framework/Resources/library --no-vignettes --timings BioGA_1.0.0.tar.gz StartedAt: 2025-03-31 23:57:24 -0400 (Mon, 31 Mar 2025) EndedAt: 2025-04-01 00:04:54 -0400 (Tue, 01 Apr 2025) EllapsedTime: 450.5 seconds RetCode: 0 Status: OK CheckDir: BioGA.Rcheck Warnings: 0