Package: BioCartaImage Version: 1.4.0 Command: chmod a+r BioCartaImage -R && F:\biocbuild\bbs-3.20-bioc\R\bin\R.exe CMD build --keep-empty-dirs --no-resave-data BioCartaImage StartedAt: 2025-03-31 17:35:24 -0400 (Mon, 31 Mar 2025) EndedAt: 2025-03-31 17:35:56 -0400 (Mon, 31 Mar 2025) EllapsedTime: 31.8 seconds RetCode: 0 Status: OK PackageFile: BioCartaImage_1.4.0.tar.gz PackageFileSize: 3.628 MiB