Package: BioCartaImage Version: 1.4.0 Command: /Library/Frameworks/R.framework/Resources/bin/R CMD INSTALL BioCartaImage StartedAt: 2025-03-31 15:06:05 -0400 (Mon, 31 Mar 2025) EndedAt: 2025-03-31 15:06:30 -0400 (Mon, 31 Mar 2025) EllapsedTime: 25.1 seconds RetCode: 0 Status: OK