Package: BioCartaImage Version: 1.4.0 Command: /Library/Frameworks/R.framework/Resources/bin/R CMD build --keep-empty-dirs --no-resave-data BioCartaImage StartedAt: 2025-03-31 17:10:35 -0400 (Mon, 31 Mar 2025) EndedAt: 2025-03-31 17:11:02 -0400 (Mon, 31 Mar 2025) EllapsedTime: 26.8 seconds RetCode: 0 Status: OK PackageFile: BioCartaImage_1.4.0.tar.gz PackageFileSize: 3.627 MiB