Package: BindingSiteFinder Version: 2.4.0 Command: rm -rf BindingSiteFinder.buildbin-libdir && mkdir BindingSiteFinder.buildbin-libdir && F:\biocbuild\bbs-3.20-bioc\R\bin\R.exe CMD INSTALL --build --library=BindingSiteFinder.buildbin-libdir BindingSiteFinder_2.4.0.tar.gz StartedAt: 2025-04-01 07:44:31 -0400 (Tue, 01 Apr 2025) EndedAt: 2025-04-01 07:49:11 -0400 (Tue, 01 Apr 2025) EllapsedTime: 279.8 seconds RetCode: 0 Status: OK PackageFile: BindingSiteFinder_2.4.0.zip PackageFileSize: 2.544 MiB