Package: BindingSiteFinder Version: 2.4.0 Command: /Library/Frameworks/R.framework/Resources/bin/R CMD INSTALL BindingSiteFinder StartedAt: 2025-03-31 15:51:47 -0400 (Mon, 31 Mar 2025) EndedAt: 2025-03-31 15:53:20 -0400 (Mon, 31 Mar 2025) EllapsedTime: 92.9 seconds RetCode: 0 Status: OK