Package: BicARE Version: 1.64.0 Command: /home/biocbuild/R/R/bin/R CMD INSTALL BicARE StartedAt: 2025-03-31 20:57:03 -0000 (Mon, 31 Mar 2025) EndedAt: 2025-03-31 20:57:27 -0000 (Mon, 31 Mar 2025) EllapsedTime: 24.1 seconds RetCode: 0 Status: OK