Package: BicARE Version: 1.64.0 Command: /Library/Frameworks/R.framework/Resources/bin/R CMD build --keep-empty-dirs --no-resave-data BicARE StartedAt: 2025-03-31 19:21:49 -0400 (Mon, 31 Mar 2025) EndedAt: 2025-03-31 19:24:07 -0400 (Mon, 31 Mar 2025) EllapsedTime: 137.6 seconds RetCode: 0 Status: OK PackageFile: BicARE_1.64.0.tar.gz PackageFileSize: 460.6 KiB