Package: BiRewire Version: 3.38.0 Command: /home/biocbuild/R/R/bin/R CMD build --keep-empty-dirs --no-resave-data BiRewire StartedAt: 2025-03-31 21:52:41 -0000 (Mon, 31 Mar 2025) EndedAt: 2025-03-31 21:53:44 -0000 (Mon, 31 Mar 2025) EllapsedTime: 63.0 seconds RetCode: 0 Status: OK PackageFile: BiRewire_3.38.0.tar.gz PackageFileSize: 715.8 KiB