Package: BgeeDB Version: 2.32.0 Command: /home/biocbuild/R/R/bin/R CMD INSTALL BgeeDB StartedAt: 2025-03-31 20:37:39 -0000 (Mon, 31 Mar 2025) EndedAt: 2025-03-31 20:38:24 -0000 (Mon, 31 Mar 2025) EllapsedTime: 44.9 seconds RetCode: 0 Status: OK