Package: BgeeDB Version: 2.32.0 Command: /home/biocbuild/R/R/bin/R CMD build --keep-empty-dirs --no-resave-data BgeeDB StartedAt: 2025-03-31 21:39:06 -0000 (Mon, 31 Mar 2025) EndedAt: 2025-03-31 21:57:40 -0000 (Mon, 31 Mar 2025) EllapsedTime: 1114.3 seconds RetCode: 0 Status: OK PackageFile: BgeeDB_2.32.0.tar.gz PackageFileSize: 107.4 KiB