Package: BgeeDB Version: 2.32.0 Command: F:\biocbuild\bbs-3.20-bioc\R\bin\R.exe CMD check --no-multiarch --install=check:BgeeDB.install-out.txt --library=F:\biocbuild\bbs-3.20-bioc\R\library --no-vignettes --timings BgeeDB_2.32.0.tar.gz StartedAt: 2025-03-31 23:13:20 -0400 (Mon, 31 Mar 2025) EndedAt: 2025-03-31 23:25:51 -0400 (Mon, 31 Mar 2025) EllapsedTime: 750.9 seconds RetCode: 0 Status: OK CheckDir: BgeeDB.Rcheck Warnings: 0