Package: BgeeDB Version: 2.32.0 Command: /Library/Frameworks/R.framework/Resources/bin/R CMD check --install=check:BgeeDB.install-out.txt --library=/Library/Frameworks/R.framework/Resources/library --no-vignettes --timings BgeeDB_2.32.0.tar.gz StartedAt: 2025-03-31 23:44:40 -0400 (Mon, 31 Mar 2025) EndedAt: 2025-03-31 23:58:28 -0400 (Mon, 31 Mar 2025) EllapsedTime: 828.4 seconds RetCode: 0 Status: OK CheckDir: BgeeDB.Rcheck Warnings: 0