Package: BgeeDB Version: 2.32.0 Command: /Library/Frameworks/R.framework/Resources/bin/R CMD build --keep-empty-dirs --no-resave-data BgeeDB StartedAt: 2025-03-31 19:19:44 -0400 (Mon, 31 Mar 2025) EndedAt: 2025-03-31 19:24:33 -0400 (Mon, 31 Mar 2025) EllapsedTime: 288.3 seconds RetCode: 0 Status: OK PackageFile: BgeeDB_2.32.0.tar.gz PackageFileSize: 106.9 KiB