Package: BgeeCall Version: 1.22.0 Command: /Library/Frameworks/R.framework/Resources/bin/R CMD INSTALL BgeeCall StartedAt: 2025-03-31 16:29:29 -0400 (Mon, 31 Mar 2025) EndedAt: 2025-03-31 16:30:12 -0400 (Mon, 31 Mar 2025) EllapsedTime: 43.1 seconds RetCode: 0 Status: OK