Package: BgeeCall Version: 1.22.0 Command: /Library/Frameworks/R.framework/Resources/bin/R CMD build --keep-empty-dirs --no-resave-data BgeeCall StartedAt: 2025-03-31 19:19:01 -0400 (Mon, 31 Mar 2025) EndedAt: 2025-03-31 19:20:43 -0400 (Mon, 31 Mar 2025) EllapsedTime: 101.5 seconds RetCode: 0 Status: OK PackageFile: BgeeCall_1.22.0.tar.gz PackageFileSize: 5.665 MiB