Package: BeadDataPackR Version: 1.58.0 Command: /home/biocbuild/R/R/bin/R CMD INSTALL BeadDataPackR StartedAt: 2025-03-31 20:11:13 -0000 (Mon, 31 Mar 2025) EndedAt: 2025-03-31 20:11:35 -0000 (Mon, 31 Mar 2025) EllapsedTime: 21.7 seconds RetCode: 0 Status: OK