Package: BayesSpace Version: 1.16.0 Command: /home/biocbuild/bbs-3.20-bioc/R/bin/R CMD INSTALL BayesSpace StartedAt: 2025-03-31 16:00:49 -0400 (Mon, 31 Mar 2025) EndedAt: 2025-03-31 16:01:56 -0400 (Mon, 31 Mar 2025) EllapsedTime: 67.8 seconds RetCode: 0 Status: OK