Package: BayesSpace Version: 1.16.0 Command: /home/biocbuild/bbs-3.20-bioc/R/bin/R CMD check --install=check:BayesSpace.install-out.txt --library=/home/biocbuild/bbs-3.20-bioc/R/site-library --timings BayesSpace_1.16.0.tar.gz StartedAt: 2025-03-10 20:09:33 -0400 (Mon, 10 Mar 2025) EndedAt: 2025-03-10 20:15:01 -0400 (Mon, 10 Mar 2025) EllapsedTime: 328.3 seconds RetCode: 0 Status: OK CheckDir: BayesSpace.Rcheck Warnings: 0