Package: BayesSpace Version: 1.16.0 Command: /Library/Frameworks/R.framework/Resources/bin/R CMD INSTALL BayesSpace StartedAt: 2025-03-31 18:16:39 -0400 (Mon, 31 Mar 2025) EndedAt: 2025-03-31 18:17:51 -0400 (Mon, 31 Mar 2025) EllapsedTime: 71.5 seconds RetCode: 0 Status: OK