Package: BayesKnockdown Version: 1.32.0 Command: /Library/Frameworks/R.framework/Resources/bin/R CMD build --keep-empty-dirs --no-resave-data BayesKnockdown StartedAt: 2025-03-31 17:03:00 -0400 (Mon, 31 Mar 2025) EndedAt: 2025-03-31 17:03:19 -0400 (Mon, 31 Mar 2025) EllapsedTime: 19.5 seconds RetCode: 0 Status: OK PackageFile: BayesKnockdown_1.32.0.tar.gz PackageFileSize: 211.6 KiB