Package: BayesKnockdown Version: 1.32.0 Command: rm -rf BayesKnockdown.buildbin-libdir && mkdir BayesKnockdown.buildbin-libdir && /Users/biocbuild/BBS/utils/build-universal.sh BayesKnockdown_1.32.0.tar.gz /Library/Frameworks/R.framework/Resources/bin/R BayesKnockdown.buildbin-libdir StartedAt: 2025-04-01 11:27:20 -0400 (Tue, 01 Apr 2025) EndedAt: 2025-04-01 11:27:26 -0400 (Tue, 01 Apr 2025) EllapsedTime: 6.6 seconds RetCode: 0 Status: OK PackageFile: BayesKnockdown_1.32.0.tgz PackageFileSize: 226.3 KiB