Package: BatchQC Version: 2.2.0 Command: rm -rf BatchQC.buildbin-libdir && mkdir BatchQC.buildbin-libdir && F:\biocbuild\bbs-3.20-bioc\R\bin\R.exe CMD INSTALL --build --library=BatchQC.buildbin-libdir BatchQC_2.2.0.tar.gz StartedAt: 2025-04-01 07:43:20 -0400 (Tue, 01 Apr 2025) EndedAt: 2025-04-01 07:44:24 -0400 (Tue, 01 Apr 2025) EllapsedTime: 63.3 seconds RetCode: 0 Status: OK PackageFile: BatchQC_2.2.0.zip PackageFileSize: 2.877 MiB