Package: BaseSpaceR Version: 1.50.0 Command: /home/biocbuild/R/R/bin/R CMD INSTALL BaseSpaceR StartedAt: 2025-03-31 20:13:55 -0000 (Mon, 31 Mar 2025) EndedAt: 2025-03-31 20:14:13 -0000 (Mon, 31 Mar 2025) EllapsedTime: 17.7 seconds RetCode: 0 Status: OK