Package: BaseSpaceR Version: 1.50.0 Command: rm -rf BaseSpaceR.buildbin-libdir && mkdir BaseSpaceR.buildbin-libdir && /Users/biocbuild/BBS/utils/build-universal.sh BaseSpaceR_1.50.0.tar.gz /Library/Frameworks/R.framework/Resources/bin/R BaseSpaceR.buildbin-libdir StartedAt: 2025-04-02 13:23:02 -0400 (Wed, 02 Apr 2025) EndedAt: 2025-04-02 13:23:10 -0400 (Wed, 02 Apr 2025) EllapsedTime: 7.8 seconds RetCode: 0 Status: OK PackageFile: BaseSpaceR_1.50.0.tgz PackageFileSize: 749 KiB