Package: Banksy Version: 1.2.0 Command: /home/biocbuild/bbs-3.20-bioc/R/bin/R CMD check --install=check:Banksy.install-out.txt --library=/home/biocbuild/bbs-3.20-bioc/R/site-library --timings Banksy_1.2.0.tar.gz StartedAt: 2025-03-31 19:59:25 -0400 (Mon, 31 Mar 2025) EndedAt: 2025-03-31 20:10:10 -0400 (Mon, 31 Mar 2025) EllapsedTime: 645.1 seconds RetCode: 0 Status: OK CheckDir: Banksy.Rcheck Warnings: 0