Package: BadRegionFinder Version: 1.34.0 Command: /home/biocbuild/R/R/bin/R CMD INSTALL BadRegionFinder StartedAt: 2025-03-31 20:38:58 -0000 (Mon, 31 Mar 2025) EndedAt: 2025-03-31 20:39:48 -0000 (Mon, 31 Mar 2025) EllapsedTime: 50.5 seconds RetCode: 0 Status: OK