Package: BadRegionFinder Version: 1.34.0 Command: F:\biocbuild\bbs-3.20-bioc\R\bin\R.exe CMD INSTALL BadRegionFinder StartedAt: 2025-03-31 16:14:17 -0400 (Mon, 31 Mar 2025) EndedAt: 2025-03-31 16:15:32 -0400 (Mon, 31 Mar 2025) EllapsedTime: 74.6 seconds RetCode: 0 Status: OK