Package: BadRegionFinder Version: 1.34.0 Command: /Library/Frameworks/R.framework/Resources/bin/R CMD check --install=check:BadRegionFinder.install-out.txt --library=/Library/Frameworks/R.framework/Resources/library --no-vignettes --timings BadRegionFinder_1.34.0.tar.gz StartedAt: 2025-03-31 23:31:39 -0400 (Mon, 31 Mar 2025) EndedAt: 2025-03-31 23:40:59 -0400 (Mon, 31 Mar 2025) EllapsedTime: 560.9 seconds RetCode: 0 Status: OK CheckDir: BadRegionFinder.Rcheck Warnings: 0