Package: BaalChIP Version: 1.32.0 Command: rm -rf BaalChIP.buildbin-libdir && mkdir BaalChIP.buildbin-libdir && /Users/biocbuild/BBS/utils/build-universal.sh BaalChIP_1.32.0.tar.gz /Library/Frameworks/R.framework/Resources/bin/R BaalChIP.buildbin-libdir StartedAt: 2025-04-02 13:21:35 -0400 (Wed, 02 Apr 2025) EndedAt: 2025-04-02 13:23:18 -0400 (Wed, 02 Apr 2025) EllapsedTime: 102.8 seconds RetCode: 0 Status: OK PackageFile: BaalChIP_1.32.0.tgz PackageFileSize: 100.2 MiB