Package: BUSseq Version: 1.12.0 Command: /home/biocbuild/R/R/bin/R CMD check --install=check:BUSseq.install-out.txt --library=/home/biocbuild/R/R/site-library --no-vignettes --timings BUSseq_1.12.0.tar.gz StartedAt: 2025-04-01 04:41:58 -0000 (Tue, 01 Apr 2025) EndedAt: 2025-04-01 04:45:37 -0000 (Tue, 01 Apr 2025) EllapsedTime: 218.1 seconds RetCode: 0 Status: OK CheckDir: BUSseq.Rcheck Warnings: 0