Package: BUSseq Version: 1.12.0 Command: /Library/Frameworks/R.framework/Resources/bin/R CMD INSTALL BUSseq StartedAt: 2025-03-31 15:18:08 -0400 (Mon, 31 Mar 2025) EndedAt: 2025-03-31 15:19:02 -0400 (Mon, 31 Mar 2025) EllapsedTime: 54.3 seconds RetCode: 0 Status: OK