Package: BUSseq Version: 1.12.0 Command: /Library/Frameworks/R.framework/Resources/bin/R CMD check --install=check:BUSseq.install-out.txt --library=/Library/Frameworks/R.framework/Resources/library --no-vignettes --timings BUSseq_1.12.0.tar.gz StartedAt: 2025-04-01 12:55:14 -0400 (Tue, 01 Apr 2025) EndedAt: 2025-04-01 12:59:05 -0400 (Tue, 01 Apr 2025) EllapsedTime: 231.1 seconds RetCode: 0 Status: OK CheckDir: BUSseq.Rcheck Warnings: 0