Package: BUSseq Version: 1.12.0 Command: /Library/Frameworks/R.framework/Resources/bin/R CMD build --keep-empty-dirs --no-resave-data BUSseq StartedAt: 2025-03-31 19:52:50 -0400 (Mon, 31 Mar 2025) EndedAt: 2025-03-31 19:54:21 -0400 (Mon, 31 Mar 2025) EllapsedTime: 90.9 seconds RetCode: 0 Status: OK PackageFile: BUSseq_1.12.0.tar.gz PackageFileSize: 976.8 KiB