Package: BUSseq Version: 1.12.0 Command: rm -rf BUSseq.buildbin-libdir && mkdir BUSseq.buildbin-libdir && /Users/biocbuild/BBS/utils/build-universal.sh BUSseq_1.12.0.tar.gz /Library/Frameworks/R.framework/Resources/bin/R BUSseq.buildbin-libdir StartedAt: 2025-04-02 13:34:27 -0400 (Wed, 02 Apr 2025) EndedAt: 2025-04-02 13:35:02 -0400 (Wed, 02 Apr 2025) EllapsedTime: 34.3 seconds RetCode: 0 Status: OK PackageFile: BUSseq_1.12.0.tgz PackageFileSize: 955.1 KiB