Package: BUSpaRse Version: 1.20.0 Command: /Library/Frameworks/R.framework/Resources/bin/R CMD INSTALL BUSpaRse StartedAt: 2025-03-31 15:46:41 -0400 (Mon, 31 Mar 2025) EndedAt: 2025-03-31 15:48:39 -0400 (Mon, 31 Mar 2025) EllapsedTime: 117.4 seconds RetCode: 0 Status: OK