Package: BUS Version: 1.62.0 Command: /home/biocbuild/R/R/bin/R CMD build --keep-empty-dirs --no-resave-data BUS StartedAt: 2025-03-31 22:02:39 -0000 (Mon, 31 Mar 2025) EndedAt: 2025-03-31 22:02:47 -0000 (Mon, 31 Mar 2025) EllapsedTime: 8.0 seconds RetCode: 0 Status: OK PackageFile: BUS_1.62.0.tar.gz PackageFileSize: 2.815 MiB