Package: BUS Version: 1.62.0 Command: /Library/Frameworks/R.framework/Resources/bin/R CMD INSTALL BUS StartedAt: 2025-03-31 17:56:06 -0400 (Mon, 31 Mar 2025) EndedAt: 2025-03-31 17:56:11 -0400 (Mon, 31 Mar 2025) EllapsedTime: 4.6 seconds RetCode: 0 Status: OK