Package: BUS Version: 1.62.0 Command: rm -rf BUS.buildbin-libdir && mkdir BUS.buildbin-libdir && /Users/biocbuild/BBS/utils/build-universal.sh BUS_1.62.0.tar.gz /Library/Frameworks/R.framework/Resources/bin/R BUS.buildbin-libdir StartedAt: 2025-04-02 13:34:03 -0400 (Wed, 02 Apr 2025) EndedAt: 2025-04-02 13:34:10 -0400 (Wed, 02 Apr 2025) EllapsedTime: 6.8 seconds RetCode: 0 Status: OK PackageFile: BUS_1.62.0.tgz PackageFileSize: 1.893 MiB