Package: BUMHMM Version: 1.30.0 Command: F:\biocbuild\bbs-3.20-bioc\R\bin\R.exe CMD check --no-multiarch --install=check:BUMHMM.install-out.txt --library=F:\biocbuild\bbs-3.20-bioc\R\library --no-vignettes --timings BUMHMM_1.30.0.tar.gz StartedAt: 2025-03-31 23:37:57 -0400 (Mon, 31 Mar 2025) EndedAt: 2025-03-31 23:41:39 -0400 (Mon, 31 Mar 2025) EllapsedTime: 222.8 seconds RetCode: 0 Status: OK CheckDir: BUMHMM.Rcheck Warnings: 0