Package: BSgenomeForge Version: 1.6.0 Command: F:\biocbuild\bbs-3.20-bioc\R\bin\R.exe CMD check --no-multiarch --install=check:BSgenomeForge.install-out.txt --library=F:\biocbuild\bbs-3.20-bioc\R\library --no-vignettes --timings BSgenomeForge_1.6.0.tar.gz StartedAt: 2025-03-31 23:37:24 -0400 (Mon, 31 Mar 2025) EndedAt: 2025-03-31 23:42:10 -0400 (Mon, 31 Mar 2025) EllapsedTime: 286.6 seconds RetCode: 1 Status: ERROR CheckDir: BSgenomeForge.Rcheck Warnings: NA