Package: BSgenome Version: 1.74.0 Command: /home/biocbuild/R/R/bin/R CMD INSTALL BSgenome StartedAt: 2025-03-31 20:31:27 -0000 (Mon, 31 Mar 2025) EndedAt: 2025-03-31 20:32:22 -0000 (Mon, 31 Mar 2025) EllapsedTime: 55.4 seconds RetCode: 0 Status: OK