Package: BRGenomics Version: 1.18.0 Command: /home/biocbuild/bbs-3.20-bioc/R/bin/R CMD build --keep-empty-dirs --no-resave-data --md5 BRGenomics StartedAt: 2025-03-31 16:29:04 -0400 (Mon, 31 Mar 2025) EndedAt: 2025-03-31 16:30:22 -0400 (Mon, 31 Mar 2025) EllapsedTime: 78.1 seconds RetCode: 0 Status: OK PackageFile: BRGenomics_1.18.0.tar.gz PackageFileSize: 4.194 MiB